BEGIN:VCALENDAR
VERSION:2.0
PRODID:-//Italian Heritage Society of Indiana - ECPv6.15.20//NONSGML v1.0//EN
CALSCALE:GREGORIAN
METHOD:PUBLISH
X-ORIGINAL-URL:https://italianheritage.org
X-WR-CALDESC:Events for Italian Heritage Society of Indiana
REFRESH-INTERVAL;VALUE=DURATION:PT1H
X-Robots-Tag:noindex
X-PUBLISHED-TTL:PT1H
BEGIN:VTIMEZONE
TZID:America/Indiana/Indianapolis
BEGIN:DAYLIGHT
TZOFFSETFROM:-0500
TZOFFSETTO:-0400
TZNAME:EDT
DTSTART:20250309T070000
END:DAYLIGHT
BEGIN:STANDARD
TZOFFSETFROM:-0400
TZOFFSETTO:-0500
TZNAME:EST
DTSTART:20251102T060000
END:STANDARD
BEGIN:DAYLIGHT
TZOFFSETFROM:-0500
TZOFFSETTO:-0400
TZNAME:EDT
DTSTART:20260308T070000
END:DAYLIGHT
BEGIN:STANDARD
TZOFFSETFROM:-0400
TZOFFSETTO:-0500
TZNAME:EST
DTSTART:20261101T060000
END:STANDARD
BEGIN:DAYLIGHT
TZOFFSETFROM:-0500
TZOFFSETTO:-0400
TZNAME:EDT
DTSTART:20270314T070000
END:DAYLIGHT
BEGIN:STANDARD
TZOFFSETFROM:-0400
TZOFFSETTO:-0500
TZNAME:EST
DTSTART:20271107T060000
END:STANDARD
END:VTIMEZONE
BEGIN:VEVENT
DTSTART;VALUE=DATE:20260615
DTEND;VALUE=DATE:20260620
DTSTAMP:20260424T163239
CREATED:20260127T222802Z
LAST-MODIFIED:20260128T170217Z
UID:22747-1781481600-1781913599@italianheritage.org
SUMMARY:Italian Summer Camp Week 1
DESCRIPTION:An Eye for Italy:   Itineraries\, Photographs\, Memories				\n				\n				\n				\n									Italian Heritage Society Lecture Series An Eye for Italy:   Itineraries\, Photographs\, MemoriesPresenter:  Jeffrey WaggonerNov 8\, 2026; 2pmLocation: Indianapolis Public Library\, Branch to be announced at a later date Beginning with a discussion of one effective strategy for adding historical depth to one’stravels in Italy\, this lecture features images from five trips to Italy (in 2002/2003\, 2004(2x)\, 2009\, and 2013). The images and the stories behind them will offer glimpses intoyesterday’s Italy and the memories that spending time in Italy inspires.								\n				\n				\n				\n					\n		\n			November 8\n\n	\n\n	  @  \n\n\n2:00 pm\n\n			\n				\n				\n				\n				\n					\n	\n		\n\n	\n	Add to calendar	\n		\n	\n\n		\n			\n									\n	Google Calendar\n\n									\n	iCalendar\n\n									\n	Outlook 365\n\n									\n	Outlook Live\n\n							\n		\n\n		\n	\n\n				\n				\n				\n				\n					\n	\n		\n\n				IHSI Book Club - October 2026	\n\n\n		\n	\n		IHSI Book Club - November 2026
URL:https://italianheritage.org/event/italian-summer-camp-2026/
LOCATION:Carmel Clay Public Library\, 55 4th Avenue SE\, Carmel\, IN\, 46032\, United States
CATEGORIES:Cultural Event
ORGANIZER;CN="Elisa Lucchi-Riester":MAILTO:elyluc25@gmail.com
END:VEVENT
BEGIN:VEVENT
DTSTART;VALUE=DATE:20260622
DTEND;VALUE=DATE:20260627
DTSTAMP:20260424T163239
CREATED:20260127T222905Z
LAST-MODIFIED:20260128T170259Z
UID:22749-1782086400-1782518399@italianheritage.org
SUMMARY:Italian Summer Camp Week 2
DESCRIPTION:An Eye for Italy:   Itineraries\, Photographs\, Memories				\n				\n				\n				\n									Italian Heritage Society Lecture Series An Eye for Italy:   Itineraries\, Photographs\, MemoriesPresenter:  Jeffrey WaggonerNov 8\, 2026; 2pmLocation: Indianapolis Public Library\, Branch to be announced at a later date Beginning with a discussion of one effective strategy for adding historical depth to one’stravels in Italy\, this lecture features images from five trips to Italy (in 2002/2003\, 2004(2x)\, 2009\, and 2013). The images and the stories behind them will offer glimpses intoyesterday’s Italy and the memories that spending time in Italy inspires.								\n				\n				\n				\n					\n		\n			November 8\n\n	\n\n	  @  \n\n\n2:00 pm\n\n			\n				\n				\n				\n				\n					\n	\n		\n\n	\n	Add to calendar	\n		\n	\n\n		\n			\n									\n	Google Calendar\n\n									\n	iCalendar\n\n									\n	Outlook 365\n\n									\n	Outlook Live\n\n							\n		\n\n		\n	\n\n				\n				\n				\n				\n					\n	\n		\n\n				IHSI Book Club - October 2026	\n\n\n		\n	\n		IHSI Book Club - November 2026
URL:https://italianheritage.org/event/italian-summer-camp-2026-2/
LOCATION:Carmel Clay Public Library\, 55 4th Avenue SE\, Carmel\, IN\, 46032\, United States
CATEGORIES:Cultural Event
END:VEVENT
END:VCALENDAR