BEGIN:VCALENDAR
VERSION:2.0
PRODID:-//Italian Heritage Society of Indiana - ECPv6.15.20//NONSGML v1.0//EN
CALSCALE:GREGORIAN
METHOD:PUBLISH
X-ORIGINAL-URL:https://italianheritage.org
X-WR-CALDESC:Events for Italian Heritage Society of Indiana
REFRESH-INTERVAL;VALUE=DURATION:PT1H
X-Robots-Tag:noindex
X-PUBLISHED-TTL:PT1H
BEGIN:VTIMEZONE
TZID:America/Indiana/Indianapolis
BEGIN:DAYLIGHT
TZOFFSETFROM:-0500
TZOFFSETTO:-0400
TZNAME:EDT
DTSTART:20200308T070000
END:DAYLIGHT
BEGIN:STANDARD
TZOFFSETFROM:-0400
TZOFFSETTO:-0500
TZNAME:EST
DTSTART:20201101T060000
END:STANDARD
BEGIN:DAYLIGHT
TZOFFSETFROM:-0500
TZOFFSETTO:-0400
TZNAME:EDT
DTSTART:20210314T070000
END:DAYLIGHT
BEGIN:STANDARD
TZOFFSETFROM:-0400
TZOFFSETTO:-0500
TZNAME:EST
DTSTART:20211107T060000
END:STANDARD
BEGIN:DAYLIGHT
TZOFFSETFROM:-0500
TZOFFSETTO:-0400
TZNAME:EDT
DTSTART:20220313T070000
END:DAYLIGHT
BEGIN:STANDARD
TZOFFSETFROM:-0400
TZOFFSETTO:-0500
TZNAME:EST
DTSTART:20221106T060000
END:STANDARD
BEGIN:DAYLIGHT
TZOFFSETFROM:-0500
TZOFFSETTO:-0400
TZNAME:EDT
DTSTART:20230312T070000
END:DAYLIGHT
BEGIN:STANDARD
TZOFFSETFROM:-0400
TZOFFSETTO:-0500
TZNAME:EST
DTSTART:20231105T060000
END:STANDARD
END:VTIMEZONE
BEGIN:VEVENT
DTSTART;TZID=America/Indiana/Indianapolis:20220610T170000
DTEND;TZID=America/Indiana/Indianapolis:20220610T230000
DTSTAMP:20260421T025159
CREATED:20220425T175134Z
LAST-MODIFIED:20221011T173508Z
UID:19642-1654880400-1654902000@italianheritage.org
SUMMARY:Holy Rosary Italian Street Festival - Day 1
DESCRIPTION:
URL:https://italianheritage.org/event/2022-indianapolis-italian-street-festival-day-1/
LOCATION:Holy Rosary Catholic Church\, 520 Stevens Street\, Indianapolis\, IN\, 46202\, United States
CATEGORIES:Free Event
ATTACH;FMTTYPE=image/png:https://italianheritage.org/wp-content/uploads/2022/04/festa2015banner-2018_07_24-13_00_08-UTC.png
END:VEVENT
BEGIN:VEVENT
DTSTART;TZID=America/Indiana/Indianapolis:20220525T120000
DTEND;TZID=America/Indiana/Indianapolis:20220525T120000
DTSTAMP:20260421T025159
CREATED:20220513T162512Z
LAST-MODIFIED:20221011T173509Z
UID:19664-1653480000-1653480000@italianheritage.org
SUMMARY:IHSI Book Club - May 2022
DESCRIPTION:The IHSI Book Club will meet at noon on May 25 at Catello’s. The selected book is: Italian Folktales Selected and Retold By Italo Calvino; Translated By George Martin\nPart 1 will cover the Introduction through page 352 \, The Little Geese. \nThe next IHSI Book Club meeting is at noon in June at Catello’s the date to be determined (TBD) later. The selected book is: Italian Folktales Selected and Retold By Italo Calvino; Translated By George Martin\nPart 2 will cover page 353\, The Water in the Basket\, through page 715 at the June book club meeting\, the date and location to be determined (TBD) at a later date .
URL:https://italianheritage.org/event/ihsi-book-club-may-2022/
LOCATION:Catello’s Restaurant\, 4901 E 82nd St\,\, Indianapolis\, IN\, 46250\, United States
CATEGORIES:Book Club,Free Event
ORGANIZER;CN="Ray Brown":MAILTO:ray.e.brown@sbcglobal.net
END:VEVENT
BEGIN:VEVENT
DTSTART;TZID=America/Indiana/Indianapolis:20220515T140000
DTEND;TZID=America/Indiana/Indianapolis:20220515T140000
DTSTAMP:20260421T025159
CREATED:20220319T163758Z
LAST-MODIFIED:20221011T173509Z
UID:19565-1652623200-1652623200@italianheritage.org
SUMMARY:IHSI Lecture Series - “The Veneto Region of Italy” by Professor Elisa Lucchi-Riester
DESCRIPTION:Senior Lecturer\, Elisa Lucchi-Riester is a Professor of 18 years in Butler University’s Spanish Department. She speaks four languages\, including her native Italian. She taught Italian until the University cut the program in 2013. Passionate about languages\, she also serves as a volunteer translator in communities and as a medical interpreter. \nNo RSVP is required. The lectures are free and open to the public\, so bring your friends. Light refreshments will be served. We look forward to seeing you!
URL:https://italianheritage.org/event/ihsi-lecture-series-the-veneto-region-of-italy-by-professor-elisa-lucchi-riester/
LOCATION:Nora Library\,    8625 Guilford Avenue \, Indianapolis\, IN\, 46240\, United States
CATEGORIES:Free Event,Lecture Series
ATTACH;FMTTYPE=image/jpeg:https://italianheritage.org/wp-content/uploads/2022/03/IHSI_logo_header_lecture_series.jpg
ORGANIZER;CN="IHSI":MAILTO:webmaster@italianheritage.org
END:VEVENT
BEGIN:VEVENT
DTSTART;TZID=America/Indiana/Indianapolis:20220424T133000
DTEND;TZID=America/Indiana/Indianapolis:20220424T160000
DTSTAMP:20260421T025159
CREATED:20211210T205504Z
LAST-MODIFIED:20221011T173509Z
UID:19470-1650807000-1650816000@italianheritage.org
SUMMARY:Pasquetta - Picnic
DESCRIPTION:Join the\nITALIAN HERITAGE SOCIETY OF INDIANA\nFor\nPASQUETTA \nSunday April 24\, 2022 \nAt: Lacy Park\nAcross from the Holy Rosary Church\n520 Stevens Street\nIn the church Priori Hall\, in case of inclement weather\n1:30- 4:00 PM \nWe ask that each person bring a dish to share with the other members. \nBottles of water\, plates\, cups\, & cutlery will be provided by the Society. \nHere is a suggestion of what to bring by your last name \nA-H Main dish (pasta\, meat dish) \nI- P Sides (veggies\, fruit\, salad) \nQ- Z Appetizer / Desserts \nBring a lawn chair; there is a playground for children & a  \nBocce court \nThis is a tradition enjoyed by Italians; in Italy the celebration takes place the day after Easter.  We hope you; your family\, and friends can join us in this celebration. \nIt is a perfect way to meet new members and to catch up with friends. \nFor any questions please contact: Claudia Heck at heckcc@aol.com \nHAPPY EASTER \nBUONA PASQUA
URL:https://italianheritage.org/event/pasquetta-2022/
LOCATION:Edna Balz Lacy Park\, 700 Greer Street\, Indianapolis\, IN\, United States
CATEGORIES:Free Event
ATTACH;FMTTYPE=image/jpeg:https://italianheritage.org/wp-content/uploads/2021/12/Pasquetta_2022.jpg
ORGANIZER;CN="Claudia Heck":MAILTO:heckcc@aol.com
END:VEVENT
BEGIN:VEVENT
DTSTART;TZID=America/Indiana/Indianapolis:20220420T120000
DTEND;TZID=America/Indiana/Indianapolis:20220420T120000
DTSTAMP:20260421T025159
CREATED:20220302T163657Z
LAST-MODIFIED:20221011T173509Z
UID:19574-1650456000-1650456000@italianheritage.org
SUMMARY:IHSI Book Club - April 2022
DESCRIPTION:Naples Declared\, a Walk Around the Bay by Benjamin Taylor is the April Book Club selection. \nA personal tour through the beauty and squalor of Naples profiles the city’s natural and human-made characteristics around its bay while sharing passionate\, lighthearted insights into the ancient city and its culture. \nPresents a tour through the beauty and squalor of Naples\, profiling the city’s natural and human-made characteristics while sharing lighthearted insights into the ancient city and its culture. \nIt is a city of seemingly irreconcilable opposites\, simultaneously glorious and ghastly. And it is Ben Taylor’s remarkable ability to meld these contradictions into a whole that makes this the exciting and original book it is. He takes his stroll around the bay with the acute sensitivity of a lover\, the good humor of a friend\, and the wisdom of a seeker who has immersed himself in all aspects of this contrapuntal culture. His curiosity leads him to many byways\, both real and metaphoric\, and his passion for this ancient city and its people becomes\, in his graceful prose and amusing anecdotes\, irresistibly contagious. \nPublication     New York: G.P. Putnam’s Sons\, [2012] ©2012 \nDescription     xxiii\, 205 pages: illustrations (some color)\, map; 22 cm
URL:https://italianheritage.org/event/ihsi-book-club-april-2022/
LOCATION:IN
CATEGORIES:Book Club,Free Event
ORGANIZER;CN="Ray Brown":MAILTO:ray.e.brown@sbcglobal.net
END:VEVENT
BEGIN:VEVENT
DTSTART;TZID=America/Indiana/Indianapolis:20220323T120000
DTEND;TZID=America/Indiana/Indianapolis:20220323T120000
DTSTAMP:20260421T025159
CREATED:20220228T145049Z
LAST-MODIFIED:20221011T173510Z
UID:19548-1648036800-1648036800@italianheritage.org
SUMMARY:IHSI Book Club - March 2022
DESCRIPTION:The next IHSI Book Club meeting is at noon on March 23 at Catello’s. The selected book is Vita a Novel by Melania G. Mazzucco. \nSynopsis:  \nAfter arriving at Ellis Island\, two poor children from Southern Italy–Diamante\, age twelve\, and Vita\, age nine–struggle to survive in New York City amid the poverty\, opportunity\, and crime of Little Italy. \nIn April 1903\, the steamship Republic spills more than two thousand immigrants onto Ellis Island. Among them are Diamante\, age twelve\, and Vita\, nine\, sent by their poor families in southern Italy to make their way in America. Amid the chaos and splendor of New York\, the misery and criminality of Little Italy\, and the shady tenants of Vita’s father’s decrepit Prince Street boarding house\, Diamante and Vita struggle to survive\, to create a new life\, and to become American. From journeys west in search of work to journeys back to Italy in search of their roots\, to Vita’s son’s encounter with his mother’s hometown while serving as an army captain in World War II\, Vita touches on every aspect of the heartbreaking and inspiring immigrant story. \nThe award-winning Italian author Melania G. Mazzucco weaves her own family history into a great American novel of the immigrant experience. A sweeping tale of discovery\, love\, and loss\, Vita is a passionate blend of biography and autobiography\, of fantasy and fiction \nPlease RSVP by Tuesday March 22 (link below)\,  so we can get a head count for Catello’s.  \nYou’re invited to attend even if you haven’t read the book\, it’s a great opportunity to meet other members\, mingle\, and share a meal. Don’t be shy!
URL:https://italianheritage.org/event/ihsi-book-club-mar-2022/
LOCATION:Catello’s Restaurant\, 4901 E 82nd St\,\, Indianapolis\, IN\, 46250\, United States
CATEGORIES:Book Club,Free Event
ORGANIZER;CN="Ray Brown":MAILTO:ray.e.brown@sbcglobal.net
END:VEVENT
BEGIN:VEVENT
DTSTART;TZID=America/Indiana/Indianapolis:20220119T120000
DTEND;TZID=America/Indiana/Indianapolis:20220119T120000
DTSTAMP:20260421T025159
CREATED:20220114T195523Z
LAST-MODIFIED:20221011T173444Z
UID:19501-1642593600-1642593600@italianheritage.org
SUMMARY:IHSI Book Club - Jan 2022
DESCRIPTION:The Food of Italy – Part II (p. 387) \nWaverly Root \nDescription:\nIn this thoroughly comprehensive\, utterly captivating culinary guidebook\, acclaimed food writer Waverley Root traverses Italy from Lombardy to Sicily\, and across 3\,000 years of invasions. An exhaustive catalog of the country’s gastronomic legacy\, The Food of Italy explains the regional delicacies\, the traditions\, and the history that define the way Italians eat. \nFrom the legally enforced frugality of the Renaissance table to the enduring Saracen luxury of Sicilian desserts\, from the lasagna of Bologna to the saltimbocca of Rome\, Root explores the secrets and customs of a cuisine so nuanced that even the basic ragu Bolognese has some two hundred variations. \nA culinary adventurer who made his mark decades before Anthony Bourdain appeared on the scene\, Root shares the stories of an elephant forced to spend the winter of 1551 in the South Tyrol and the dishes named after him\, the proper way to bottle Chianti\, and the mysteries surrounding the origin of tortellini. Essential reading for travelers—of the armchair and ticketed variety\, alike—The Food of Italy\, which features decorative maps (that may not be legible for all readers) and illustrations\, brings the subtleties of the Italian palate into any home. \nSource: https://www.amazon.com/Food-Italy-Waverley-Root/dp/0679738967
URL:https://italianheritage.org/event/ihsi-book-club-jan-2022/
LOCATION:Catello’s Restaurant\, 4901 E 82nd St\,\, Indianapolis\, IN\, 46250\, United States
CATEGORIES:Book Club,Free Event
ORGANIZER;CN="Ray Brown":MAILTO:ray.e.brown@sbcglobal.net
END:VEVENT
BEGIN:VEVENT
DTSTART;TZID=America/Indiana/Indianapolis:20210813T170000
DTEND;TZID=America/Indiana/Indianapolis:20210813T230000
DTSTAMP:20260421T025159
CREATED:20210714T184148Z
LAST-MODIFIED:20221011T173445Z
UID:19217-1628874000-1628895600@italianheritage.org
SUMMARY:Indianapolis Italian Street Festival - Day 1
DESCRIPTION:Come by our booth and say\, “Ciao!” during the annual Indianapolis Italian Street Festival by Holy Rosary Church.  After a year away\, come and celebrate with us this August 13th and 14th.
URL:https://italianheritage.org/event/2021-1-italian-street-festival-indianapolis/
LOCATION:Holy Rosary Catholic Church\, 520 Stevens Street\, Indianapolis\, IN\, 46202\, United States
CATEGORIES:Free Event
ATTACH;FMTTYPE=image/jpeg:https://italianheritage.org/wp-content/uploads/2021/07/DSCN1786-2018_07_24-13_00_08-UTC.jpg
END:VEVENT
BEGIN:VEVENT
DTSTART;TZID=America/Indiana/Indianapolis:20210725T180000
DTEND;TZID=America/Indiana/Indianapolis:20210725T210000
DTSTAMP:20260421T025159
CREATED:20210626T165254Z
LAST-MODIFIED:20221011T173445Z
UID:19177-1627236000-1627246800@italianheritage.org
SUMMARY:Una Serata Italiana
DESCRIPTION:Join your fellow members of the Italian Heritage Society of Indiana for Una Serata Italiana\, an Italian Evening at the wonderful venue of Daniels’ Family Vineyard & Winery. \nAttendees will be provided with both a dinner course and a selection of wines from Daniel’s Vineyard at this no-cost event for members of the Society who are current\, members who become current with their membership dues\, designated lifetime members\, or those who become new members by the above date. \nPlease note that membership is defined as dues-paying members and not those who may only be on the Society’s Facebook page. \nNon-member individual cost: $30.00 \nNon-member couple cost: $45.00 \nNeed to renew or want to become a new IHSI member? Go to:\nhttps://italianheritage.org/product-category/membership/ \nRSVP: silvams@comcast.net \nFor clarification\, this event is offered to adults: a single membership is for one adult\, a family membership is for two adults.
URL:https://italianheritage.org/event/una-serata-italiana/
LOCATION:Daniel’s Vineyard\, 9061 N. Carroll Rd. \, McCordsville\, IN\, 46055\, United States
CATEGORIES:Free Event
ATTACH;FMTTYPE=image/jpeg:https://italianheritage.org/wp-content/uploads/2021/07/daniels_vineyard.jpg
ORGANIZER;CN="Silvana Schuster":MAILTO:silvams@comcast.net
END:VEVENT
END:VCALENDAR