BEGIN:VCALENDAR
VERSION:2.0
PRODID:-//Italian Heritage Society of Indiana - ECPv6.15.20//NONSGML v1.0//EN
CALSCALE:GREGORIAN
METHOD:PUBLISH
X-ORIGINAL-URL:https://italianheritage.org
X-WR-CALDESC:Events for Italian Heritage Society of Indiana
REFRESH-INTERVAL;VALUE=DURATION:PT1H
X-Robots-Tag:noindex
X-PUBLISHED-TTL:PT1H
BEGIN:VTIMEZONE
TZID:America/Indiana/Indianapolis
BEGIN:DAYLIGHT
TZOFFSETFROM:-0500
TZOFFSETTO:-0400
TZNAME:EDT
DTSTART:20220313T070000
END:DAYLIGHT
BEGIN:STANDARD
TZOFFSETFROM:-0400
TZOFFSETTO:-0500
TZNAME:EST
DTSTART:20221106T060000
END:STANDARD
BEGIN:DAYLIGHT
TZOFFSETFROM:-0500
TZOFFSETTO:-0400
TZNAME:EDT
DTSTART:20230312T070000
END:DAYLIGHT
BEGIN:STANDARD
TZOFFSETFROM:-0400
TZOFFSETTO:-0500
TZNAME:EST
DTSTART:20231105T060000
END:STANDARD
BEGIN:DAYLIGHT
TZOFFSETFROM:-0500
TZOFFSETTO:-0400
TZNAME:EDT
DTSTART:20240310T070000
END:DAYLIGHT
BEGIN:STANDARD
TZOFFSETFROM:-0400
TZOFFSETTO:-0500
TZNAME:EST
DTSTART:20241103T060000
END:STANDARD
END:VTIMEZONE
BEGIN:VEVENT
DTSTART;TZID=America/Indiana/Indianapolis:20230305T140000
DTEND;TZID=America/Indiana/Indianapolis:20230305T140000
DTSTAMP:20260423T172633
CREATED:20230101T160436Z
LAST-MODIFIED:20230218T185231Z
UID:19573-1678024800-1678024800@italianheritage.org
SUMMARY:IHSI Lecture Series - “Puglia and the History of Olive Oil” by Professor Carl Ipsen
DESCRIPTION:An Eye for Italy:   Itineraries\, Photographs\, Memories				\n				\n				\n				\n									Italian Heritage Society Lecture Series An Eye for Italy:   Itineraries\, Photographs\, MemoriesPresenter:  Jeffrey WaggonerNov 8\, 2026; 2pmLocation: Indianapolis Public Library\, Branch to be announced at a later date Beginning with a discussion of one effective strategy for adding historical depth to one’stravels in Italy\, this lecture features images from five trips to Italy (in 2002/2003\, 2004(2x)\, 2009\, and 2013). The images and the stories behind them will offer glimpses intoyesterday’s Italy and the memories that spending time in Italy inspires.								\n				\n				\n				\n					\n		\n			November 8\n\n	\n\n	  @  \n\n\n2:00 pm\n\n			\n				\n				\n				\n				\n					\n	\n		\n\n	\n	Add to calendar	\n		\n	\n\n		\n			\n									\n	Google Calendar\n\n									\n	iCalendar\n\n									\n	Outlook 365\n\n									\n	Outlook Live\n\n							\n		\n\n		\n	\n\n				\n				\n				\n				\n					\n	\n		\n\n				IHSI Book Club - October 2026	\n\n\n		\n	\n		IHSI Book Club - November 2026
URL:https://italianheritage.org/event/ihsi-lecture-series-the-history-of-puglia-by-professor-carl-ipsen/
LOCATION:Glendale Library\, 3660 East 62nd St\, Indianapolis\, IN\, 46220\, United States
CATEGORIES:Free Event,Lecture Series,Ticketed Event
ATTACH;FMTTYPE=image/jpeg:https://italianheritage.org/wp-content/uploads/2022/03/IHSI_logo_header_lecture_series.jpg
ORGANIZER;CN="IHSI":MAILTO:webmaster@italianheritage.org
END:VEVENT
END:VCALENDAR