BEGIN:VCALENDAR
VERSION:2.0
PRODID:-//Italian Heritage Society of Indiana - ECPv6.15.20//NONSGML v1.0//EN
CALSCALE:GREGORIAN
METHOD:PUBLISH
X-ORIGINAL-URL:https://italianheritage.org
X-WR-CALDESC:Events for Italian Heritage Society of Indiana
REFRESH-INTERVAL;VALUE=DURATION:PT1H
X-Robots-Tag:noindex
X-PUBLISHED-TTL:PT1H
BEGIN:VTIMEZONE
TZID:America/Indiana/Indianapolis
BEGIN:DAYLIGHT
TZOFFSETFROM:-0500
TZOFFSETTO:-0400
TZNAME:EDT
DTSTART:20250309T070000
END:DAYLIGHT
BEGIN:STANDARD
TZOFFSETFROM:-0400
TZOFFSETTO:-0500
TZNAME:EST
DTSTART:20251102T060000
END:STANDARD
BEGIN:DAYLIGHT
TZOFFSETFROM:-0500
TZOFFSETTO:-0400
TZNAME:EDT
DTSTART:20260308T070000
END:DAYLIGHT
BEGIN:STANDARD
TZOFFSETFROM:-0400
TZOFFSETTO:-0500
TZNAME:EST
DTSTART:20261101T060000
END:STANDARD
BEGIN:DAYLIGHT
TZOFFSETFROM:-0500
TZOFFSETTO:-0400
TZNAME:EDT
DTSTART:20270314T070000
END:DAYLIGHT
BEGIN:STANDARD
TZOFFSETFROM:-0400
TZOFFSETTO:-0500
TZNAME:EST
DTSTART:20271107T060000
END:STANDARD
END:VTIMEZONE
BEGIN:VEVENT
DTSTART;TZID=America/Indiana/Indianapolis:20260215T140000
DTEND;TZID=America/Indiana/Indianapolis:20260215T150000
DTSTAMP:20260421T065132
CREATED:20260129T152736Z
LAST-MODIFIED:20260129T153032Z
UID:22825-1771164000-1771167600@italianheritage.org
SUMMARY:Speaker Series:  Italian Mardi Gras
DESCRIPTION:An Eye for Italy:   Itineraries\, Photographs\, Memories				\n				\n				\n				\n									Italian Heritage Society Lecture Series An Eye for Italy:   Itineraries\, Photographs\, MemoriesPresenter:  Jeffrey WaggonerNov 8\, 2026; 2pmLocation: Indianapolis Public Library\, Branch to be announced at a later date Beginning with a discussion of one effective strategy for adding historical depth to one’stravels in Italy\, this lecture features images from five trips to Italy (in 2002/2003\, 2004(2x)\, 2009\, and 2013). The images and the stories behind them will offer glimpses intoyesterday’s Italy and the memories that spending time in Italy inspires.								\n				\n				\n				\n					\n		\n			November 8\n\n	\n\n	  @  \n\n\n2:00 pm\n\n			\n				\n				\n				\n				\n					\n	\n		\n\n	\n	Add to calendar	\n		\n	\n\n		\n			\n									\n	Google Calendar\n\n									\n	iCalendar\n\n									\n	Outlook 365\n\n									\n	Outlook Live\n\n							\n		\n\n		\n	\n\n				\n				\n				\n				\n					\n	\n		\n\n				IHSI Book Club - October 2026	\n\n\n		\n	\n		IHSI Book Club - November 2026
URL:https://italianheritage.org/event/speaker-series-italian-mardi-gras/
LOCATION:Carmel Clay Public Library\, 55 4th Avenue SE\, Carmel\, IN\, 46032\, United States
CATEGORIES:Free Event,Lecture Series
ORGANIZER;CN="Elisa Lucchi-Riester":MAILTO:elyluc25@gmail.com
END:VEVENT
END:VCALENDAR