BEGIN:VCALENDAR
VERSION:2.0
PRODID:-//Italian Heritage Society of Indiana - ECPv6.15.20//NONSGML v1.0//EN
CALSCALE:GREGORIAN
METHOD:PUBLISH
X-ORIGINAL-URL:https://italianheritage.org
X-WR-CALDESC:Events for Italian Heritage Society of Indiana
REFRESH-INTERVAL;VALUE=DURATION:PT1H
X-Robots-Tag:noindex
X-PUBLISHED-TTL:PT1H
BEGIN:VTIMEZONE
TZID:America/Indiana/Indianapolis
BEGIN:DAYLIGHT
TZOFFSETFROM:-0500
TZOFFSETTO:-0400
TZNAME:EDT
DTSTART:20160313T070000
END:DAYLIGHT
BEGIN:STANDARD
TZOFFSETFROM:-0400
TZOFFSETTO:-0500
TZNAME:EST
DTSTART:20161106T060000
END:STANDARD
BEGIN:DAYLIGHT
TZOFFSETFROM:-0500
TZOFFSETTO:-0400
TZNAME:EDT
DTSTART:20170312T070000
END:DAYLIGHT
BEGIN:STANDARD
TZOFFSETFROM:-0400
TZOFFSETTO:-0500
TZNAME:EST
DTSTART:20171105T060000
END:STANDARD
BEGIN:DAYLIGHT
TZOFFSETFROM:-0500
TZOFFSETTO:-0400
TZNAME:EDT
DTSTART:20180311T070000
END:DAYLIGHT
BEGIN:STANDARD
TZOFFSETFROM:-0400
TZOFFSETTO:-0500
TZNAME:EST
DTSTART:20181104T060000
END:STANDARD
BEGIN:DAYLIGHT
TZOFFSETFROM:-0500
TZOFFSETTO:-0400
TZNAME:EDT
DTSTART:20190310T070000
END:DAYLIGHT
BEGIN:STANDARD
TZOFFSETFROM:-0400
TZOFFSETTO:-0500
TZNAME:EST
DTSTART:20191103T060000
END:STANDARD
END:VTIMEZONE
BEGIN:VEVENT
DTSTART;TZID=America/Indiana/Indianapolis:20180221T070000
DTEND;TZID=America/Indiana/Indianapolis:20180221T090000
DTSTAMP:20260421T102402
CREATED:20180206T220430Z
LAST-MODIFIED:20221011T173408Z
UID:17932-1519196400-1519203600@italianheritage.org
SUMMARY:Book Club: The second half of this fascinating biography of Leonardo da Vinci
DESCRIPTION: The second half of this fascinating biography of Leonardo da Vinci will be discussed over lunch at the Indianapolis Museum of Art\, Followed by a docent tour focused on the Renaissance. \nJoin us\, Wednesday February 21st at 12:00 pm at the IMA’s lunch room. \nFor more details and to participate\, please contact Silvana Martini Schuster silvams@comcast.net
URL:https://italianheritage.org/event/book-club-second-half-fascinating-biography-leonardo-da-vinci/
LOCATION:Indianapolis museum of art\, 4000 Michigan Road\, indianapolis\, IN\, 46208\, United States
END:VEVENT
BEGIN:VEVENT
DTSTART;VALUE=DATE:20180209
DTEND;VALUE=DATE:20180210
DTSTAMP:20260421T102402
CREATED:20180207T000855Z
LAST-MODIFIED:20221011T173408Z
UID:17947-1518202800-1518202800@italianheritage.org
SUMMARY:Roncalli High School Show Choir Performing to Italian Songs
DESCRIPTION:Maria Mina (left)\, Emily Mulinaro (right) \n \n  \nRoncalli High School Show Choir will be performing to Italian Songs in local Competitions. \nSongs include: Bella notte\, Mambo Italiano\, Funicula’Funicula’\, Mamma Mia\, Pompei\, Scenes from an Italian Restaurant (Billy Joel) and Because We Believe (Andrea Bocelli). \nSophmore’s Maria Mina and Emily Mulinaro whose families are IHSI members will dance and sing in all songs along with the 33 members of Rebel Rhapsody. \nDate and locations: \nSaturday\, February 10\, 2018 Pike High School \nFriday\, February 23\, 2018 Franklin Central High School (evening) \nTIME‘S TBA closer to dates for specific Roncalli stage time\, 20 min performance\, Contact Gino or Shelly at gsmina@sbcglobal.net or 317-407-5571 for times if interested.
URL:https://italianheritage.org/event/roncalli-high-school-show-choir-performing-italian-songs/
LOCATION:IN
END:VEVENT
BEGIN:VEVENT
DTSTART;TZID=America/Indiana/Indianapolis:20180108T120000
DTEND;TZID=America/Indiana/Indianapolis:20180108T120000
DTSTAMP:20260421T102402
CREATED:20171202T195505Z
LAST-MODIFIED:20221011T173408Z
UID:17860-1515412800-1515412800@italianheritage.org
SUMMARY:Board Meeting
DESCRIPTION:Times TBD
URL:https://italianheritage.org/event/board-meeting/
LOCATION:IN
END:VEVENT
BEGIN:VEVENT
DTSTART;TZID=America/Indiana/Indianapolis:20171212T123000
DTEND;TZID=America/Indiana/Indianapolis:20171212T123000
DTSTAMP:20260421T102402
CREATED:20171202T195142Z
LAST-MODIFIED:20221011T173408Z
UID:17858-1513081800-1513081800@italianheritage.org
SUMMARY:Book Club
DESCRIPTION:
URL:https://italianheritage.org/event/book-club/
LOCATION:Indiana Historical Society\, 450 w Ohio st\, Indianapolis\, Indiana\, 46202
END:VEVENT
BEGIN:VEVENT
DTSTART;TZID=America/Indiana/Indianapolis:20171210T113000
DTEND;TZID=America/Indiana/Indianapolis:20171210T160000
DTSTAMP:20260421T102402
CREATED:20171202T192119Z
LAST-MODIFIED:20221011T173408Z
UID:17849-1512905400-1512921600@italianheritage.org
SUMMARY:Italian Heritage Society Christmas Party and Election of Officers 2018
DESCRIPTION:
URL:https://italianheritage.org/event/italian-heritage-society-christmas-party-election-officers-2018/
LOCATION:Holy Rosary Catholic Church\, 520 Stevens Street\, Indianapolis\, IN\, 46202\, United States
ORGANIZER;CN="IHSI":MAILTO:webmaster@italianheritage.org
END:VEVENT
BEGIN:VEVENT
DTSTART;TZID=America/Indiana/Indianapolis:20171119T093000
DTEND;TZID=America/Indiana/Indianapolis:20171119T120000
DTSTAMP:20260421T102402
CREATED:20170811T165519Z
LAST-MODIFIED:20221011T173408Z
UID:17785-1511083800-1511092800@italianheritage.org
SUMMARY:Giuseppe Verdi’s "La Traviata at he Indianapolis Opera
DESCRIPTION:La Traviata\n \nGiuseppe Verdi\, composer | Francesco Maria Piave\, librettist\nGiuseppe Verdi’s timeless and beautiful opera based on Alexandre Dumas’ famous book\, The Lady of the Camelias and film versions such as Camille. \nThe Italian Heritage Society is organizing a group to attend the Sunday\, November 19th performance at 2:30 p.m. \nIf you are interested in attending with other Society members\, please email Carol Faenzi\, carol@mytuscanaria.com\n 
URL:https://italianheritage.org/event/giuseppe-verdis-la-traviata-indianapolis-opera/
LOCATION:The Tarkington at the Center for the Performing Arts\, Carmel\, IN\, United States
END:VEVENT
BEGIN:VEVENT
DTSTART;TZID=America/Indiana/Indianapolis:20171015T130000
DTEND;TZID=America/Indiana/Indianapolis:20171015T180000
DTSTAMP:20260421T102402
CREATED:20170811T062852Z
LAST-MODIFIED:20221011T173408Z
UID:17780-1508072400-1508090400@italianheritage.org
SUMMARY:Columbus Day Dinner
DESCRIPTION:SAVE THE DATE!!!\n \nMORE INFORMATION COMING SOON!!!\nIHSI Columbus Day Dinner\nSunday\, October 15\, 2017\, 5:00 pm\nLocation:Primo Banquet Hall\n \n\n\n \n\n\nTicket Type\n\n\nMember $50.00 USDNon-Member $60.00 USD \n\n\n\n\n\n\nSelect Ticket Quantity on Next Screen.
URL:https://italianheritage.org/event/columbus-day-dinner/
LOCATION:Primo Banquet Hall\, 2615 National Ave\, Indianapolis\, Indianapolis\, IN\, 46227\, United States
END:VEVENT
BEGIN:VEVENT
DTSTART;TZID=America/Indiana/Indianapolis:20170930T080000
DTEND;TZID=America/Indiana/Indianapolis:20170930T120000
DTSTAMP:20260421T102402
CREATED:20170608T080124Z
LAST-MODIFIED:20221011T173409Z
UID:17640-1506758400-1506772800@italianheritage.org
SUMMARY:Sister City Festival
DESCRIPTION:September 30th Indianapolis has a Sister City in Italy: Monza – another famous city known for auto racing! In collaboration with the Mayor’s Office\, the Society will be participating in this annual celebration of cultural diversity.\nCome for the international cuisine\, live music and soak up the culture of the world. Volunteers for our booth are needed! Contact Susan Lew if you have some time to contribute and have fun besides!\nVolunteering is a great way to get to know your fellow members! Susan.lew27@gmail.com or call 317-691-0139\n\nWhere: Wineskin Ministries\, 4501 W. 38th Street from Noon to 4:00 p.m.
URL:https://italianheritage.org/event/sister-city-festival/
LOCATION:New Wineskin Ministries\, 4501 38th St \, Indianapolis\, IN\, 46254\, United States
END:VEVENT
BEGIN:VEVENT
DTSTART;TZID=America/Indiana/Indianapolis:20170923T140000
DTEND;TZID=America/Indiana/Indianapolis:20170923T170000
DTSTAMP:20260421T102402
CREATED:20170811T055646Z
LAST-MODIFIED:20221011T173409Z
UID:17773-1506175200-1506186000@italianheritage.org
SUMMARY:Indianapolis Symphony Presents Superstar lyric soprano  Renee Fleming concert
DESCRIPTION:Superstar lyric soprano Renée Fleming makes her ISO debut with an unforgettable evening of music for voice and orchestra. In addition to performing some of her favorite arias and other classical works\, Ms. Fleming will be featured in Letters from Georgia — a song cycle based on the letters of artist Georgia O’Keefe — written by Pulitzer Prize-winner Kevin Puts.
URL:https://italianheritage.org/event/indianapolis-symphony-presents-superstar-lyric-soprano-renee-fleming-concert/
LOCATION:The Hilbert Circle Theater\, 45 Monument Circle \, Indianapolis\, Indiana\, 46204
END:VEVENT
BEGIN:VEVENT
DTSTART;TZID=America/Indiana/Indianapolis:20170916T073000
DTEND;TZID=America/Indiana/Indianapolis:20170916T120000
DTSTAMP:20260421T102402
CREATED:20170608T075937Z
LAST-MODIFIED:20221011T173409Z
UID:17635-1505547000-1505563200@italianheritage.org
SUMMARY:Chapel in the Meadow Celebration
DESCRIPTION:Join us on Saturday\, September 16\nCelebration of Mass & Picnic\nThe Italian POW Chapel in the Meadow\nCamp Atterbury\n3008 Old Hospital Road\, Edinburgh\, IN. 46124\n11:30 a.m. Presentation of Colors Ceremony and Mass    \nThe Picnic will follow nearby\, bocce and games are planned.\nMembers are asked to bring a side dish or dessert to share. \n\nA main pasta dish will be provided\, as well as water\, plates\, napkins\, cutlery\, etc.\nCamp Atterbury will be celebrating its Community Day From 9:30 a.m. to 4 p.m.\n \n\nBelow is their program:\nVeterans Memorial Ceremony at 9:30 a.m. at the Veterans Memorial\n5K Suicide Awareness Run\nCommunity Information\nTours of Camp Atterbury\nPOW Chapel Commemoration at 11:30 a.m. – 12:45 p.m.\nLive Fire Demonstrations\nFood Vendors\nLive Music\nStatic Displays\nPetting Zoo\nOpen to the public\, no fees!\n\n\nPlease email Silvana silvams@comcast.net let us know if you will be joining us.\n\n\nCamp Atterbury is located 39 miles south of Indianapolis.  Take I-465 to I-65 south to the Edinburgh exit\, west on Indiana 252 through Edinburgh.  Cross U.S. 31 into the entrance of Camp Atterbury\, which is Hospital Road.  Go straight (approx. 3 miles)\, and follow the POW Chapel  signs.
URL:https://italianheritage.org/event/chapel-in-the-meadow/
LOCATION:Chapel in the Meadow\, 3008 Old Hospital Road\, Edinburgh\, IN\, 46124\, United States
END:VEVENT
BEGIN:VEVENT
DTSTART;TZID=America/Indiana/Indianapolis:20170910T100000
DTEND;TZID=America/Indiana/Indianapolis:20170910T110000
DTSTAMP:20260421T102402
CREATED:20170811T034810Z
LAST-MODIFIED:20221011T173409Z
UID:17762-1505037600-1505041200@italianheritage.org
SUMMARY:IHSI Cultural Lecture Series
DESCRIPTION:Italian Heritage Society Lecture Series\nSunday\, September 10\, 2017\nIHSI Board Member and Author\, Carol Faenzi will speak on the topic: \n“The First Italians” Etruscans in Tuscany”\n  \n \nCarol’s grandfather\, Ottavio Faenzi emigrated from southern Tuscany.\nThis area\, known as the Tuscan Maremma\, was one of the strong- holds of the ancient Etruscan civilization (8th-3rd Century BC). Carol will share her stunning photography of the grand toms and archae- ology sites plus the culinary specialties of this beautiful and seldom visited area of Tuscany. \nCome learn ho modern Italian culture owes everything to the Etruscans! \nAlways free and open to the public \nNora Library: 2:00 pm—3:00 pm\nPlease contact Susan Santore Lew if you have suggestions for a speaker at 317-691-0139 or email susan.lew27@gmail.com \nSpeakers are paid an honorarium.
URL:https://italianheritage.org/event/ihsi-cultural-lecture-series/
LOCATION:Nora Library\,    8625 Guilford Avenue \, Indianapolis\, IN\, 46240\, United States
END:VEVENT
BEGIN:VEVENT
DTSTART;TZID=America/Indiana/Indianapolis:20170829T083000
DTEND;TZID=America/Indiana/Indianapolis:20170829T113000
DTSTAMP:20260421T102402
CREATED:20170811T053926Z
LAST-MODIFIED:20221011T173342Z
UID:17770-1503995400-1504006200@italianheritage.org
SUMMARY:IHSI Book Club
DESCRIPTION:The Revolution of the Moon\, by Andrea Camilleri\n \nTuesday\, August 29\, 12:30 pm\nLunch at cafeteria\, discussion\, Capehart Room Scottish Rite Cathedral\nA tour of the building will be available at 2:30
URL:https://italianheritage.org/event/ihsi-book-club/
LOCATION:Capehart Room Scottish Rite Cathedral\, 650 N Meridian St\, Indianapolis\, IN\, 46204\, United States
END:VEVENT
BEGIN:VEVENT
DTSTART;TZID=America/Indiana/Indianapolis:20170824T143000
DTEND;TZID=America/Indiana/Indianapolis:20170824T163000
DTSTAMP:20260421T102402
CREATED:20170811T172352Z
LAST-MODIFIED:20221011T173343Z
UID:17792-1503585000-1503592200@italianheritage.org
SUMMARY:LET'S SPEAK ITALIAN!!! Introductory Italian 4
DESCRIPTION:Introductory Italian 4\nThis class is for students that have already studied Italian for about 40/60 hours and can talk using the present tense of regular\, irregular and reflexive verbs. In this class you will learn how to shop in Italy for food and clothes\, how to use direct and indirect pronouns\, and you will deepen the understanding of oral expressions and further learn geography and culture.\nThursday from 6:30-to 8;30 pm for six weeks. August 24\, 31\, September 7\, 14\, 21\, 28\nCost: $220\nMaximum number of students: 6 In order to register or to have more information call 317-989-2810 or 317-581-1340 or send a check to IndyItalian\, 12865 Limberlost Drive Carmel\, Indiana 46033\nCall or send a message to IndyItalian\, if you are interested or have questions.\n\n 
URL:https://italianheritage.org/event/lets-speak-italian-introductory-italian-4/
LOCATION:Indy Italian\, 12865 Limberlost Drive \, Carmel\, IN\, 46033\, United States
END:VEVENT
BEGIN:VEVENT
DTSTART;TZID=America/Indiana/Indianapolis:20170823T150000
DTEND;TZID=America/Indiana/Indianapolis:20170823T170000
DTSTAMP:20260421T102402
CREATED:20170608T075748Z
LAST-MODIFIED:20221011T173343Z
UID:17631-1503500400-1503507600@italianheritage.org
SUMMARY:Vino\, Formaggio & Conversazione
DESCRIPTION:More Info TBD
URL:https://italianheritage.org/event/vino-formaggio-conversazione/
LOCATION:The Bridges at Carmel Market District\, 11505 N Illinois Street\, Carmel\, IN\, 46032\, United States
END:VEVENT
BEGIN:VEVENT
DTSTART;TZID=America/Indiana/Indianapolis:20170823T143000
DTEND;TZID=America/Indiana/Indianapolis:20170823T163000
DTSTAMP:20260421T102402
CREATED:20170811T171405Z
LAST-MODIFIED:20221011T173343Z
UID:17790-1503498600-1503505800@italianheritage.org
SUMMARY:LET'S SPEAK ITALIAN!!! Introductory Italian 1
DESCRIPTION: \nIntroductory Italian 1\nThis class is designed for students with no previous knowledge of Italian who wish to learn basic conversational skills with a minimum of grammar. Emphasis will be placed on communication: oral practice\, pronunciation and listening in a friendly and interactive atmosphere. \n Wednesday from 6:30 pm to 8:30 pm for six weeks August 23\,30\, September 6\, 13\, 20\, 27\nCost: $220 (textbook included)\nMaximum number of students: 6 In order to register or to have more information call 317-989-2810 or 317-581-1340 or send a check to IndyItalian\, 12865 Limberlost Drive\, Carmel\, Indiana 46033\n 
URL:https://italianheritage.org/event/lets-speak-italian-introductory-italian-1/
LOCATION:Indy Italian\, 12865 Limberlost Drive \, Carmel\, IN\, 46033\, United States
END:VEVENT
BEGIN:VEVENT
DTSTART;TZID=America/Indiana/Indianapolis:20170822T140000
DTEND;TZID=America/Indiana/Indianapolis:20170822T160000
DTSTAMP:20260421T102402
CREATED:20170811T172008Z
LAST-MODIFIED:20221011T173343Z
UID:17794-1503410400-1503417600@italianheritage.org
SUMMARY:LET'S SPEAK ITALIAN!!! Advanced Italian 3
DESCRIPTION:Advanced Italian 3\n In this language course you will continue to expand your conversational skills\, learn how to have exchanges on a variety of topics\, and continue your immersion in the Italian culture. \nCost: $220 and dinner included! \nSix meetings on Tuesday night from 6:00 pm to 8:00 pm Classes will be on the following nights: August 8\, 22\,22\,29\, September 5\, 12\, 19. \nMaximum number of students: 6 In order to register or to have more information call 317-989-2810 or 317-581-1340 or send a check to IndyItalian\, 12865 Limberlost Drive\, Carmel\, Indiana 46033
URL:https://italianheritage.org/event/lets-speak-italian-advanced-italian-3/
LOCATION:Indy Italian\, 12865 Limberlost Drive \, Carmel\, IN\, 46033\, United States
END:VEVENT
BEGIN:VEVENT
DTSTART;TZID=America/Indiana/Indianapolis:20170806T150000
DTEND;TZID=America/Indiana/Indianapolis:20170806T170000
DTSTAMP:20260421T102402
CREATED:20170608T075836Z
LAST-MODIFIED:20221011T173343Z
UID:17633-1502031600-1502038800@italianheritage.org
SUMMARY:Cooking with Nonna - Entree's
DESCRIPTION:More info TBD
URL:https://italianheritage.org/event/cooking-nonna-entrees/
LOCATION:The Bridges at Carmel Market District\, 11505 N Illinois Street\, Carmel\, IN\, 46032\, United States
END:VEVENT
BEGIN:VEVENT
DTSTART;TZID=America/Indiana/Indianapolis:20170710T040000
DTEND;TZID=America/Indiana/Indianapolis:20170710T130000
DTSTAMP:20260421T102402
CREATED:20170608T075629Z
LAST-MODIFIED:20221011T173343Z
UID:17629-1499659200-1499691600@italianheritage.org
SUMMARY:IHSI Board Meeting
DESCRIPTION:
URL:https://italianheritage.org/event/ihsi-board-meeting/
LOCATION:IHSI\, 520 Stevens St\, Indianapolis\, IN\, 46203\, United States
END:VEVENT
BEGIN:VEVENT
DTSTART;TZID=America/Indiana/Indianapolis:20170625T040000
DTEND;TZID=America/Indiana/Indianapolis:20170625T040000
DTSTAMP:20260421T102402
CREATED:20170608T075538Z
LAST-MODIFIED:20221011T173343Z
UID:17627-1498363200-1498363200@italianheritage.org
SUMMARY:Golf Outing
DESCRIPTION:
URL:https://italianheritage.org/event/golf-outing/
LOCATION:Sarah Shank Golf Course\, 2601 S. Keystone Avenue\, Indianapolis\, United States
END:VEVENT
BEGIN:VEVENT
DTSTART;TZID=America/Indiana/Indianapolis:20170623T150000
DTEND;TZID=America/Indiana/Indianapolis:20170623T170000
DTSTAMP:20260421T102402
CREATED:20170608T075459Z
LAST-MODIFIED:20221011T173344Z
UID:17624-1498230000-1498237200@italianheritage.org
SUMMARY:Cooking with Nonna - Appetizers
DESCRIPTION:Learn how to make “Italian Appetizers”\nWith some of our own “Nonna’s and Nonno’s” and a special guest chef from one of Indianapolis’ finest restaurants. \nCost: $25 IHSI Members  or $30 Non IHSI Members \n(Limited Space Available) Please contact Claudia by email heckcc@aol.com or Ashleigh alazarus@dmeconsultant.com to reserve your place)
URL:https://italianheritage.org/event/cooking-nonna-appetizers/
LOCATION:The Bridges at Carmel Market District\, 11505 N Illinois Street\, Carmel\, IN\, 46032\, United States
END:VEVENT
BEGIN:VEVENT
DTSTART;TZID=America/Indiana/Indianapolis:20170610T130000
DTEND;TZID=America/Indiana/Indianapolis:20170610T190000
DTSTAMP:20260421T102402
CREATED:20170608T075215Z
LAST-MODIFIED:20221011T173344Z
UID:17622-1497099600-1497121200@italianheritage.org
SUMMARY:Italian Street-Fest
DESCRIPTION:More Info: https://www.indyitalianfest.org/
URL:https://italianheritage.org/event/italian-street-fest-2/
LOCATION:IN
END:VEVENT
BEGIN:VEVENT
DTSTART;TZID=America/Indiana/Indianapolis:20170609T130000
DTEND;TZID=America/Indiana/Indianapolis:20170609T190000
DTSTAMP:20260421T102402
CREATED:20170608T074938Z
LAST-MODIFIED:20221011T173344Z
UID:17620-1497013200-1497034800@italianheritage.org
SUMMARY:Italian Street-Fest
DESCRIPTION:More Info: https://www.indyitalianfest.org/
URL:https://italianheritage.org/event/italian-street-fest/
LOCATION:IN
END:VEVENT
BEGIN:VEVENT
DTSTART;TZID=America/Indiana/Indianapolis:20170423T100000
DTEND;TZID=America/Indiana/Indianapolis:20170423T140000
DTSTAMP:20260421T102402
CREATED:20170326T065417Z
LAST-MODIFIED:20221011T173344Z
UID:17471-1492941600-1492956000@italianheritage.org
SUMMARY:Pasquetta
DESCRIPTION:Traditionally taking place the day after Easter in Italy\, the IHSI will celebrate Pasquetta the Sunday after Easter at Edna Balz Lacy Park in Indianapolis.  This is a carry in picnic with bocce courts available for playing.  In the case of inclement weather\, a backup location will be available.
URL:https://italianheritage.org/event/pasquetta/
LOCATION:Edna Balz Lacy Park\, 700 Greer Street\, Indianapolis\, IN\, United States
END:VEVENT
END:VCALENDAR